BEGIN:VCALENDAR
VERSION:2.0
PRODID:-//ChamberMaster//Event Calendar 2.0//EN
METHOD:PUBLISH
X-PUBLISHED-TTL:P3D
REFRESH-INTERVAL:P3D
CALSCALE:GREGORIAN
BEGIN:VEVENT
DTSTART:20251213T190000Z
DTEND:20251213T233000Z
X-MICROSOFT-CDO-ALLDAYEVENT:FALSE
SUMMARY:Member Event: Gnome Making Workshop
DESCRIPTION:Create your own festive Gnome\, the perfect holiday accent for your porch or front entrance!\n\nDuring this workshop you will:\n\n- Learn how to build a greenery base using winter greens.\n\n- Shape and secure your gnome's signature hat and nose.\n\n- Add decorative accents to personalize your gnome.\n\n- Take home a charming winter themed piece ready to display.\n\nThis workshop is perfect for all skill levels\, offering a budget friendly way to create a beautiful holiday display. All materials are supplied. Blue Grass reserves the right to cancel the workshop within 48 hours due to low enrollment. Picture is a representation and not the final product.\n\nSpaces are limited\, so be sure to reserve your spot today!
X-ALT-DESC;FMTTYPE=text/html:<p>Create your own festive Gnome\, the perfect holiday accent for your porch or front entrance!</p>\n\n<p>During this workshop you will:</p>\n\n<p>- Learn how to build a greenery base using winter greens.</p>\n\n<p>- Shape and secure your gnome&#39\;s signature hat and nose.</p>\n\n<p>- Add decorative accents to personalize your gnome.</p>\n\n<p>- Take home a charming winter themed piece ready to display.</p>\n\n<p>This workshop is perfect for all skill levels\, offering a budget friendly way to create a beautiful holiday display. All materials are supplied. Blue Grass reserves the right to cancel the workshop within 48 hours due to low enrollment. Picture is a representation and not the final product.</p>\n\n<p>Spaces are limited\, so be sure to reserve your spot today!</p>\n
LOCATION:Blue Grass Calgary 260130B Writing Creek Crescent\, Rocky View County\, AB T4A 0M9
UID:e.1948.3206
SEQUENCE:3
DTSTAMP:20260419T182954Z
URL:http://airdriechamber.chambermaster.com/events/details/member-event-gnome-making-workshop-3206
END:VEVENT

END:VCALENDAR
